BEGIN:VCALENDAR
VERSION:2.0
PRODID:-//M4L Foundation - ECPv6.5.0//NONSGML v1.0//EN
CALSCALE:GREGORIAN
METHOD:PUBLISH
X-WR-CALNAME:M4L Foundation
X-ORIGINAL-URL:https://www.m4lfoundation.org
X-WR-CALDESC:Events for M4L Foundation
REFRESH-INTERVAL;VALUE=DURATION:PT1H
X-Robots-Tag:noindex
X-PUBLISHED-TTL:PT1H
BEGIN:VTIMEZONE
TZID:America/New_York
BEGIN:DAYLIGHT
TZOFFSETFROM:-0500
TZOFFSETTO:-0400
TZNAME:EDT
DTSTART:20260308T070000
END:DAYLIGHT
BEGIN:STANDARD
TZOFFSETFROM:-0400
TZOFFSETTO:-0500
TZNAME:EST
DTSTART:20261101T060000
END:STANDARD
END:VTIMEZONE
BEGIN:VEVENT
DTSTART;TZID=America/New_York:20260502T180000
DTEND;TZID=America/New_York:20260502T233000
DTSTAMP:20260421T125938
CREATED:20251127T160431Z
LAST-MODIFIED:20260130T204521Z
UID:3366-1777744800-1777764600@www.m4lfoundation.org
SUMMARY:Sea to Shining Sea - Ellis Island
DESCRIPTION:VIP Experience Ellis Island\nNew York\, New York \nJoin us for an unforgettable evening at Ellis Island as we commemorate two defining moments in American history — the 250th Anniversary of the United States and the 5th Anniversary of Moms for Liberty. \nYour VIP ticket includes: \n\nExclusive black-tie dinner in the Grand Hall\, surrounded by the storied exhibits of this iconic historic museum\nLive music and premium open bar throughout the evening\nDistinguished speakers reflecting on America’s enduring commitment to freedom\, democracy\, and Western values\nFront-row view of a spectacular fireworks display over the New York City skyline\, featuring the Statue of Liberty
URL:https://www.m4lfoundation.org/event/sea-to-shining-sea-ellis-island/
ORGANIZER;CN="Moms For Liberty":MAILTO:admission@momsforliberty.org
END:VEVENT
END:VCALENDAR